BEGIN:VCALENDAR
VERSION:2.0
PRODID:-//Tukios.com/
BEGIN:VEVENT
UID:9b250464-7a4f-4600-a038-d8980518402f@www.sassmannschapel.com
DTSTAMP:20260419T213034Z
DTSTART:20260422T160000Z
DTEND:20260422T163000Z
SUMMARY:Graveside Service
DESCRIPTION:
URL:https://www.sassmannschapel.com/obituaries/shirley-kaiser
LOCATION: Highway 28 East  Bland MO 65014
GEO:38.302321;-91.632849
END:VEVENT
END:VCALENDAR